BEGIN:VCALENDAR
VERSION:2.0
PRODID:-//Biz2Grow - ECPv6.15.13.1//NONSGML v1.0//EN
CALSCALE:GREGORIAN
METHOD:PUBLISH
X-WR-CALNAME:Biz2Grow
X-ORIGINAL-URL:https://biz2grow.org
X-WR-CALDESC:Events for Biz2Grow
REFRESH-INTERVAL;VALUE=DURATION:PT1H
X-Robots-Tag:noindex
X-PUBLISHED-TTL:PT1H
BEGIN:VTIMEZONE
TZID:America/New_York
BEGIN:DAYLIGHT
TZOFFSETFROM:-0500
TZOFFSETTO:-0400
TZNAME:EDT
DTSTART:20240310T070000
END:DAYLIGHT
BEGIN:STANDARD
TZOFFSETFROM:-0400
TZOFFSETTO:-0500
TZNAME:EST
DTSTART:20241103T060000
END:STANDARD
BEGIN:DAYLIGHT
TZOFFSETFROM:-0500
TZOFFSETTO:-0400
TZNAME:EDT
DTSTART:20250309T070000
END:DAYLIGHT
BEGIN:STANDARD
TZOFFSETFROM:-0400
TZOFFSETTO:-0500
TZNAME:EST
DTSTART:20251102T060000
END:STANDARD
BEGIN:DAYLIGHT
TZOFFSETFROM:-0500
TZOFFSETTO:-0400
TZNAME:EDT
DTSTART:20260308T070000
END:DAYLIGHT
BEGIN:STANDARD
TZOFFSETFROM:-0400
TZOFFSETTO:-0500
TZNAME:EST
DTSTART:20261101T060000
END:STANDARD
END:VTIMEZONE
BEGIN:VEVENT
DTSTART;TZID=America/New_York:20250310T100000
DTEND;TZID=America/New_York:20250310T120000
DTSTAMP:20260423T100703
CREATED:20250219T205643Z
LAST-MODIFIED:20250219T205643Z
UID:1661-1741600800-1741608000@biz2grow.org
SUMMARY:What Goes Into a Marketing Plan?
DESCRIPTION:Want to boost your visibility and attract new customers? This session is tailored just for you! Join an expert and a small group of peers to explore the essential components of a successful marketing plan. You’ll learn which marketing strategies are best suited for your business and which to avoid\, how to effectively communicate your business story\, identify your potential customers and discover where to find them\, and determine where to focus your marketing efforts.  \nYour expert will guide you through a straightforward\, question-and-answer framework to help you create a clear\, actionable marketing plan by the end of the session. \nTo Sign up for the Event: \n-Visit hope2women.org/verizon\n-Create a free account\n-Search for this webinar under “events”\n-Register! \nWho should register:\n-Business owners who want to better understand all aspects of marketing\n-Business owners developing a comprehensive marketing plan including target demographics\, advertising\, social media\, and more\n-Business owners who are or will be seeking capital\n-Business owners who are struggling to be profitable
URL:https://biz2grow.org/event/what-goes-into-a-marketing-plan-2/
LOCATION:VIRTUAL
ATTACH;FMTTYPE=image/png:https://biz2grow.org/wp-content/uploads/2025/02/The-best-conversions-Email-marketing-lead-magnets-and-landing-pages-4.png
ORGANIZER;CN="HOPE2Women":MAILTO:hello@hope2women.org
END:VEVENT
END:VCALENDAR