BEGIN:VCALENDAR
VERSION:2.0
PRODID:-//Biz2Grow - ECPv6.15.13.1//NONSGML v1.0//EN
CALSCALE:GREGORIAN
METHOD:PUBLISH
X-ORIGINAL-URL:https://biz2grow.org
X-WR-CALDESC:Events for Biz2Grow
REFRESH-INTERVAL;VALUE=DURATION:PT1H
X-Robots-Tag:noindex
X-PUBLISHED-TTL:PT1H
BEGIN:VTIMEZONE
TZID:America/New_York
BEGIN:DAYLIGHT
TZOFFSETFROM:-0500
TZOFFSETTO:-0400
TZNAME:EDT
DTSTART:20240310T070000
END:DAYLIGHT
BEGIN:STANDARD
TZOFFSETFROM:-0400
TZOFFSETTO:-0500
TZNAME:EST
DTSTART:20241103T060000
END:STANDARD
BEGIN:DAYLIGHT
TZOFFSETFROM:-0500
TZOFFSETTO:-0400
TZNAME:EDT
DTSTART:20250309T070000
END:DAYLIGHT
BEGIN:STANDARD
TZOFFSETFROM:-0400
TZOFFSETTO:-0500
TZNAME:EST
DTSTART:20251102T060000
END:STANDARD
BEGIN:DAYLIGHT
TZOFFSETFROM:-0500
TZOFFSETTO:-0400
TZNAME:EDT
DTSTART:20260308T070000
END:DAYLIGHT
BEGIN:STANDARD
TZOFFSETFROM:-0400
TZOFFSETTO:-0500
TZNAME:EST
DTSTART:20261101T060000
END:STANDARD
END:VTIMEZONE
BEGIN:VEVENT
DTSTART;TZID=America/New_York:20250311T143000
DTEND;TZID=America/New_York:20250311T163000
DTSTAMP:20260423T070509
CREATED:20250303T004922Z
LAST-MODIFIED:20250303T004922Z
UID:1695-1741703400-1741710600@biz2grow.org
SUMMARY:Establishing Business Credit
DESCRIPTION:Money and credit may not buy happiness but it sure makes starting and growing a business a little easier. In this Ask the Expert session\, we will discuss the options for securing capital and lines of credit to start or grow your business\, key considerations for raising capital and accessing lines\, and to balance the sometimes fuzzy lines of personal and business finances for the entrepreneur. Sign up now! \nTo Sign up for the Event: \n-Visit hope2women.org/verizon\n-Create a free account\n-Search for this webinar under “events”\n-Register!
URL:https://biz2grow.org/event/establishing-business-credit/
LOCATION:VIRTUAL
ATTACH;FMTTYPE=image/png:https://biz2grow.org/wp-content/uploads/2025/03/The-best-conversions-Email-marketing-lead-magnets-and-landing-pages-1.png
ORGANIZER;CN="HOPE2Women":MAILTO:hello@hope2women.org
END:VEVENT
END:VCALENDAR