BEGIN:VCALENDAR
VERSION:2.0
PRODID:-//Biz2Grow - ECPv6.15.13.1//NONSGML v1.0//EN
CALSCALE:GREGORIAN
METHOD:PUBLISH
X-WR-CALNAME:Biz2Grow
X-ORIGINAL-URL:https://biz2grow.org
X-WR-CALDESC:Events for Biz2Grow
REFRESH-INTERVAL;VALUE=DURATION:PT1H
X-Robots-Tag:noindex
X-PUBLISHED-TTL:PT1H
BEGIN:VTIMEZONE
TZID:America/New_York
BEGIN:DAYLIGHT
TZOFFSETFROM:-0500
TZOFFSETTO:-0400
TZNAME:EDT
DTSTART:20240310T070000
END:DAYLIGHT
BEGIN:STANDARD
TZOFFSETFROM:-0400
TZOFFSETTO:-0500
TZNAME:EST
DTSTART:20241103T060000
END:STANDARD
BEGIN:DAYLIGHT
TZOFFSETFROM:-0500
TZOFFSETTO:-0400
TZNAME:EDT
DTSTART:20250309T070000
END:DAYLIGHT
BEGIN:STANDARD
TZOFFSETFROM:-0400
TZOFFSETTO:-0500
TZNAME:EST
DTSTART:20251102T060000
END:STANDARD
BEGIN:DAYLIGHT
TZOFFSETFROM:-0500
TZOFFSETTO:-0400
TZNAME:EDT
DTSTART:20260308T070000
END:DAYLIGHT
BEGIN:STANDARD
TZOFFSETFROM:-0400
TZOFFSETTO:-0500
TZNAME:EST
DTSTART:20261101T060000
END:STANDARD
END:VTIMEZONE
BEGIN:VEVENT
DTSTART;TZID=America/New_York:20250319T180000
DTEND;TZID=America/New_York:20250319T190000
DTSTAMP:20260420T114617
CREATED:20250304T162243Z
LAST-MODIFIED:20250304T162258Z
UID:1703-1742407200-1742410800@biz2grow.org
SUMMARY:Mastercard Digital Doors: Practical AI for Small Business: Marketing
DESCRIPTION:AI is changing the way small businesses market their products and services. In this practical\, hands-on session\, Jacqui Jones\, CEO of One Degree Marketing\, will walk you through specific AI tools that can help you: \n-Automate content creation to save time and keep a consistent online presence \n-Optimize ad campaigns to improve targeting and maximize your budget \n-Personalize outreach to attract and retain customers more effectively \nDesigned specifically for small business owners\, this webinar will focus on tactical\, real-world applications of AI. You’ll leave with clear\, actionable steps and easy-to-use tools to make AI work for you. \nClick Here to Register
URL:https://biz2grow.org/event/mastercard-digital-doors-practical-ai-for-small-business-marketing/
LOCATION:VIRTUAL
ATTACH;FMTTYPE=image/jpeg:https://biz2grow.org/wp-content/uploads/2025/03/unnamed-1.jpg
ORGANIZER;CN="HOPE2Women":MAILTO:hello@hope2women.org
END:VEVENT
END:VCALENDAR