BEGIN:VCALENDAR
VERSION:2.0
PRODID:-//Biz2Grow - ECPv6.15.13.1//NONSGML v1.0//EN
CALSCALE:GREGORIAN
METHOD:PUBLISH
X-ORIGINAL-URL:https://biz2grow.org
X-WR-CALDESC:Events for Biz2Grow
REFRESH-INTERVAL;VALUE=DURATION:PT1H
X-Robots-Tag:noindex
X-PUBLISHED-TTL:PT1H
BEGIN:VTIMEZONE
TZID:America/New_York
BEGIN:DAYLIGHT
TZOFFSETFROM:-0500
TZOFFSETTO:-0400
TZNAME:EDT
DTSTART:20240310T070000
END:DAYLIGHT
BEGIN:STANDARD
TZOFFSETFROM:-0400
TZOFFSETTO:-0500
TZNAME:EST
DTSTART:20241103T060000
END:STANDARD
BEGIN:DAYLIGHT
TZOFFSETFROM:-0500
TZOFFSETTO:-0400
TZNAME:EDT
DTSTART:20250309T070000
END:DAYLIGHT
BEGIN:STANDARD
TZOFFSETFROM:-0400
TZOFFSETTO:-0500
TZNAME:EST
DTSTART:20251102T060000
END:STANDARD
BEGIN:DAYLIGHT
TZOFFSETFROM:-0500
TZOFFSETTO:-0400
TZNAME:EDT
DTSTART:20260308T070000
END:DAYLIGHT
BEGIN:STANDARD
TZOFFSETFROM:-0400
TZOFFSETTO:-0500
TZNAME:EST
DTSTART:20261101T060000
END:STANDARD
END:VTIMEZONE
BEGIN:VEVENT
DTSTART;TZID=America/New_York:20250320T120000
DTEND;TZID=America/New_York:20250320T140000
DTSTAMP:20260420T102003
CREATED:20250303T010231Z
LAST-MODIFIED:20250303T010231Z
UID:1701-1742472000-1742479200@biz2grow.org
SUMMARY:Building a Sustainable Business: Strategies for Prioritizing Wellness and Well-being
DESCRIPTION:Join us for a webinar focused on building a sustainable and successful business by prioritizing your own well-being. As an entrepreneur\, it’s easy to get caught up in the demands of running a business and neglect your own health and happiness. In this webinar\, we’ll discuss essential strategies for time management\, stress reduction\, and work-life balance. Learn how to avoid burnout\, enhance your productivity\, and achieve long-term success while prioritizing your own well-being. \nTo Sign up for the Event: \n-Visit hope2women.org/verizon\n-Create a free account\n-Search for this webinar under “events”\n-Register!
URL:https://biz2grow.org/event/building-a-sustainable-business-strategies-for-prioritizing-wellness-and-well-being/
LOCATION:VIRTUAL
ATTACH;FMTTYPE=image/png:https://biz2grow.org/wp-content/uploads/2025/03/The-best-conversions-Email-marketing-lead-magnets-and-landing-pages-4.png
ORGANIZER;CN="HOPE2Women":MAILTO:hello@hope2women.org
END:VEVENT
BEGIN:VEVENT
DTSTART;TZID=America/New_York:20250320T150000
DTEND;TZID=America/New_York:20250320T163000
DTSTAMP:20260420T102003
CREATED:20250303T005732Z
LAST-MODIFIED:20250303T005732Z
UID:1699-1742482800-1742488200@biz2grow.org
SUMMARY:Launch and Scale Through Strategic Planning
DESCRIPTION:Do you have a vision for your business\, but need a plan to put it into action? In this Ask the Expert session\, gain insights into creating an effective strategic plan that drives growth\, ensuring sustainable scaling. Our expert will provide practical tools for aligning business objectives\, resources\, and market changes. Sign up today to learn the strategies needed to thrive as your business takes off! \nTo Sign up for the Event: \n-Visit hope2women.org/verizon\n-Create a free account\n-Search for this webinar under “events”\n-Register!
URL:https://biz2grow.org/event/launch-and-scale-through-strategic-planning/
LOCATION:VIRTUAL
ATTACH;FMTTYPE=image/png:https://biz2grow.org/wp-content/uploads/2025/03/The-best-conversions-Email-marketing-lead-magnets-and-landing-pages-3.png
ORGANIZER;CN="HOPE2Women":MAILTO:hello@hope2women.org
END:VEVENT
END:VCALENDAR