BEGIN:VCALENDAR
VERSION:2.0
PRODID:-//Biz2Grow - ECPv6.15.13.1//NONSGML v1.0//EN
CALSCALE:GREGORIAN
METHOD:PUBLISH
X-ORIGINAL-URL:https://biz2grow.org
X-WR-CALDESC:Events for Biz2Grow
REFRESH-INTERVAL;VALUE=DURATION:PT1H
X-Robots-Tag:noindex
X-PUBLISHED-TTL:PT1H
BEGIN:VTIMEZONE
TZID:America/New_York
BEGIN:DAYLIGHT
TZOFFSETFROM:-0500
TZOFFSETTO:-0400
TZNAME:EDT
DTSTART:20230312T070000
END:DAYLIGHT
BEGIN:STANDARD
TZOFFSETFROM:-0400
TZOFFSETTO:-0500
TZNAME:EST
DTSTART:20231105T060000
END:STANDARD
BEGIN:DAYLIGHT
TZOFFSETFROM:-0500
TZOFFSETTO:-0400
TZNAME:EDT
DTSTART:20240310T070000
END:DAYLIGHT
BEGIN:STANDARD
TZOFFSETFROM:-0400
TZOFFSETTO:-0500
TZNAME:EST
DTSTART:20241103T060000
END:STANDARD
BEGIN:DAYLIGHT
TZOFFSETFROM:-0500
TZOFFSETTO:-0400
TZNAME:EDT
DTSTART:20250309T070000
END:DAYLIGHT
BEGIN:STANDARD
TZOFFSETFROM:-0400
TZOFFSETTO:-0500
TZNAME:EST
DTSTART:20251102T060000
END:STANDARD
END:VTIMEZONE
BEGIN:VEVENT
DTSTART;TZID=America/New_York:20240924T160000
DTEND;TZID=America/New_York:20240924T170000
DTSTAMP:20260419T182814
CREATED:20240919T201408Z
LAST-MODIFIED:20240919T201953Z
UID:817-1727193600-1727197200@biz2grow.org
SUMMARY:Social Media Marketing
DESCRIPTION:This is an introductory session where you’ll meet one-on-one with an expert to gain insights and feedback about your social media strategy. \nHow To Sign Up: \n\nVisit hope2women.org/verizon\nSign up for a FREE account\nSearch ‘social media marketing’ under events\nRegister and attend the live event!\n\nMore About This Free Training: \nWe offer two levels of support to small business owners who attend this session: setting up channels from scratch or reviewing your current content and strategy. Business owners looking to get started will join a small classroom with an expert. Business owners ready for a review will work with an expert to review their content and receive feedback on: optimizing when and what you post\, converting followers into customers\, and creating a social media strategy that drives more engagement. \nIn either session\, you’ll discuss how to select the right social media channels\, how to target your audience properly\, the posting frequency that makes the most sense for your business\, and how to create the type of content that resonates with your audience. Sign up now! \n \nWho should register: \n\nBusiness owners who have active social media channels to review\nBusiness owners getting started in social media marketing\nBusiness owners who want to better understand how their existing social media channels can work for their business\nBusiness owners who are struggling to convert using social media tools\nBusiness owners who need to find more potential customers online
URL:https://biz2grow.org/event/social-media-marketing/
LOCATION:VIRTUAL
END:VEVENT
END:VCALENDAR